Workbook

Sheet 4A
O1: Mẫu 4A
A2: TRƯỜNG CAO ĐẲNG LÝ TỰ TRỌNG THÀNH PHỐ HỒ CHÍ MINH PHÒNG QUẢN TRỊ - DỊCH VỤ | J2: CỘNG HÒA XÃ HỘI CHỦ NGHĨA VIỆT NAM Độc lập - Tự do - Hạnh phúc
A4: BÁO CÁO DANH SÁCH TỔNG HỢP KẾT QUẢ ĐÁNH GIÁ, PHÂN LOẠI CỦA CÔNG CHỨC, VIÊN CHỨC Kỳ đánh giá: Quý 3/2019
A7: STT | B7: HỌ VÀ TÊN | D7: MÃ NHÂN VIÊN | E7: ĐIỂM TỰ ĐÁNH GIÁ | F7: ĐIỂM ĐƠN VỊ ĐÁNH GIÁ | K7: KẾT QUẢ XẾP LOẠI (đánh dấu X tương ứng mức đánh giá từng cá nhân) | P7: Ghi chú
F8: Tiêu chí I+II | G8: Tiêu chí III | H8: Tổng số Điểm cộng | I8: Tổng số Điểm trừ | J8: Tổng điểm | K8: Hoàn thành xuất sắc nhiệm vụ | L8: Hoàn thành tốt nhiệm vụ | M8: Hoàn thành nhiệm vụ hoặc hoàn thành nhiệm vụ nhưng còn hạn chế về năng lực | N8: Không hoàn thành nhiệm vụ | O8: Không xếp loai (nghỉ chế độ thai sản, nghỉ không lương, nghỉ việc,...)
A9: (1) | B9: (2) | D9: (3) | E9: (4) | F9: (5) | G9: (6) | H9: (7) | I9: (8) | J9: (9)= (5+6+7)-(8) | K9: (10) | L9: (11) | M9: (12) | N9: (13) | O9: (14)
A10: I | B10: Viên chức
A11: 1 | B11: Lê Quang | C11: LIÊM | D11: 50200000160 | E11: 96 | F11: ='[1]Lê Quang Liêm'!F45 -> 35 | G11: ='KL-CV'!V8 -> 60 | J11: =ROUND(F11+G11+H11-I11,1) -> 95 | K11: =IF(AND($J11>=90,$J11<=100),"X",IF($J11<90,"","")) -> X | L11: =IF(AND($J11>=75,$J11<90),"X",IF($J11<75,"","")) | M11: =IF(AND($J11>=50,$J11<75),"X",IF($J11<50,"","")) | N11: =IF($J11<50,"X","")
A12: 2 | B12: Nguyễn Văn | C12: THÀNH | D12: 11100000723 | E12: 91 | F12: ='[1]Nguyễn Văn Thành'!F45 -> 32 | G12: ='KL-CV'!V9 -> 60 | J12: =ROUND(F12+G12+H12-I12,1) -> 92 | K12: =IF(AND($J12>=90,$J12<=100),"X",IF($J12<90,"","")) -> X | L12: =IF(AND($J12>=75,$J12<90),"X",IF($J12<75,"","")) | M12: =IF(AND($J12>=50,$J12<75),"X",IF($J12<50,"","")) | N12: =IF($J12<50,"X","")
A13: 3 | B13: Nguyễn Trọng | C13: PHÚ | D13: 11100083294 | E13: 96 | F13: ='[1]Nguyễn Trọng Phú'!F45 -> 31 | G13: ='KL-CV'!V10 -> 60 | J13: =ROUND(F13+G13+H13-I13,1) -> 91 | K13: =IF(AND($J13>=90,$J13<=100),"X",IF($J13<90,"","")) -> X | L13: =IF(AND($J13>=75,$J13<90),"X",IF($J13<75,"","")) | M13: =IF(AND($J13>=50,$J13<75),"X",IF($J13<50,"","")) | N13: =IF($J13<50,"X","")
A14: 4 | B14: Đỗ Văn | C14: TRONG | D14: 11100071601 | E14: 92 | F14: ='[1]Đỗ Văn Trong'!F43 -> 26 | G14: ='KL-CV'!V11 -> 60 | J14: =ROUND(F14+G14+H14-I14,1) -> 86 | K14: =IF(AND($J14>=90,$J14<=100),"X",IF($J14<90,"","")) | L14: =IF(AND($J14>=75,$J14<90),"X",IF($J14<75,"","")) -> X | M14: =IF(AND($J14>=50,$J14<75),"X",IF($J14<50,"","")) | N14: =IF($J14<50,"X","")
A15: 5 | B15: Giáp Văn | C15: THỊNH | D15: 11100115709 | E15: 95 | F15: ='[1]Giáp Văn Thịnh'!F43 -> 31 | G15: ='KL-CV'!V12 -> 60 | J15: =ROUND(F15+G15+H15-I15,1) -> 91 | K15: =IF(AND($J15>=90,$J15<=100),"X",IF($J15<90,"","")) -> X | L15: =IF(AND($J15>=75,$J15<90),"X",IF($J15<75,"","")) | M15: =IF(AND($J15>=50,$J15<75),"X",IF($J15<50,"","")) | N15: =IF($J15<50,"X","")
A16: 6 | B16: Vũ Ngọc | C16: QUANG | D16: 11100083308 | E16: 90 | F16: ='[1]Vũ Ngọc Quang'!F43 -> 27 | G16: ='KL-CV'!V13 -> 60 | J16: =ROUND(F16+G16+H16-I16,1) -> 87 | K16: =IF(AND($J16>=90,$J16<=100),"X",IF($J16<90,"","")) | L16: =IF(AND($J16>=75,$J16<90),"X",IF($J16<75,"","")) -> X | M16: =IF(AND($J16>=50,$J16<75),"X",IF($J16<50,"","")) | N16: =IF($J16<50,"X","")
A17: 7 | B17: Lê Hồng Anh | C17: TUẤN | D17: 40900000037 | E17: 92 | F17: ='[1]Lê Hồng Anh Tuấn'!F43 -> 31 | G17: ='KL-CV'!V14 -> 60 | J17: =ROUND(F17+G17+H17-I17,1) -> 91 | K17: =IF(AND($J17>=90,$J17<=100),"X",IF($J17<90,"","")) -> X | L17: =IF(AND($J17>=75,$J17<90),"X",IF($J17<75,"","")) | M17: =IF(AND($J17>=50,$J17<75),"X",IF($J17<50,"","")) | N17: =IF($J17<50,"X","")
A18: 8 | B18: Ninh Đỗ | C18: HIỆP | D18: 11100115706 | E18: 81 | F18: ='[1]Ninh Đỗ Hiệp'!F43 -> 25.5 | G18: ='KL-CV'!V15 -> 50 | J18: =ROUND(F18+G18+H18-I18,1) -> 75.5 | K18: =IF(AND($J18>=90,$J18<=100),"X",IF($J18<90,"","")) | L18: =IF(AND($J18>=75,$J18<90),"X",IF($J18<75,"","")) -> X | M18: =IF(AND($J18>=50,$J18<75),"X",IF($J18<50,"","")) | N18: =IF($J18<50,"X","")
A19: 9 | B19: Bùi Đặng Hoàng | C19: TUẤN | D19: 40800000327 | E19: 84 | F19: ='[1]Bùi Đặng Hoàng Tuấn'!F43 -> 27 | G19: ='KL-CV'!V16 -> 50 | J19: =ROUND(F19+G19+H19-I19,1) -> 77 | K19: =IF(AND($J19>=90,$J19<=100),"X",IF($J19<90,"","")) | L19: =IF(AND($J19>=75,$J19<90),"X",IF($J19<75,"","")) -> X | M19: =IF(AND($J19>=50,$J19<75),"X",IF($J19<50,"","")) | N19: =IF($J19<50,"X","")
A20: 10 | B20: Nguyễn Tiến Việt | C20: DŨNG | D20: 40800000301 | E20: 83 | F20: ='[1]Nguyễn Tiến Việt Dũng'!F43 -> 26 | G20: ='KL-CV'!V17 -> 50 | J20: =ROUND(F20+G20+H20-I20,1) -> 76 | K20: =IF(AND($J20>=90,$J20<=100),"X",IF($J20<90,"","")) | L20: =IF(AND($J20>=75,$J20<90),"X",IF($J20<75,"","")) -> X | M20: =IF(AND($J20>=50,$J20<75),"X",IF($J20<50,"","")) | N20: =IF($J20<50,"X","")
A21: 11 | B21: Nguyễn Cao | C21: THẮNG | D21: 80600000454 | E21: 95 | F21: ='[1]Nguyễn Cao Thắng'!F43 -> 31 | G21: ='KL-CV'!V18 -> 60 | J21: =ROUND(F21+G21+H21-I21,1) -> 91 | K21: =IF(AND($J21>=90,$J21<=100),"X",IF($J21<90,"","")) -> X | L21: =IF(AND($J21>=75,$J21<90),"X",IF($J21<75,"","")) | M21: =IF(AND($J21>=50,$J21<75),"X",IF($J21<50,"","")) | N21: =IF($J21<50,"X","")
A22: 12 | B22: Mai Thu | C22: HƯƠNG | D22: 50700000433 | E22: 93 | F22: ='[1]Mai Thu Hương'!F43 -> 30 | G22: ='KL-CV'!V19 -> 60 | J22: =ROUND(F22+G22+H22-I22,1) -> 90 | K22: =IF(AND($J22>=90,$J22<=100),"X",IF($J22<90,"","")) -> X | L22: =IF(AND($J22>=75,$J22<90),"X",IF($J22<75,"","")) | M22: =IF(AND($J22>=50,$J22<75),"X",IF($J22<50,"","")) | N22: =IF($J22<50,"X","")
A23: 13 | B23: Nguyễn Thùy | C23: DƯƠNG | D23: 21000001676 | E23: 80 | F23: ='[1]Nguyễn Thùy Dương'!F43 -> 28 | G23: ='KL-CV'!V20 -> 50 | J23: =ROUND(F23+G23+H23-I23,1) -> 78 | K23: =IF(AND($J23>=90,$J23<=100),"X",IF($J23<90,"","")) | L23: =IF(AND($J23>=75,$J23<90),"X",IF($J23<75,"","")) -> X | M23: =IF(AND($J23>=50,$J23<75),"X",IF($J23<50,"","")) | N23: =IF($J23<50,"X","")
A24: II | B24: Viên chức tập sự
A25: III | B25: Hợp đồng 68
A26: 1 | B26: Giáp Đức | C26: NHẬN | D26: 11100083290 | E26: 93 | F26: ='[1]Giáp Dức Nhận'!F43 -> 28 | G26: ='KL-CV'!V21 -> 60 | J26: =ROUND(F26+G26+H26-I26,1) -> 88 | K26: =IF(AND($J26>=90,$J26<=100),"X",IF($J26<90,"","")) | L26: =IF(AND($J26>=75,$J26<90),"X",IF($J26<75,"","")) -> X | M26: =IF(AND($J26>=50,$J26<75),"X",IF($J26<50,"","")) | N26: =IF($J26<50,"X","")
A27: 2 | B27: Trần Thị | C27: THU | D27: 79000H05.000200 | E27: 83 | F27: ='[1]Trần Thị Thu'!F45 -> 30 | G27: ='KL-CV'!V22 -> 50 | J27: =ROUND(F27+G27+H27-I27,1) -> 80 | K27: =IF(AND($J27>=90,$J27<=100),"X",IF($J27<90,"","")) | L27: =IF(AND($J27>=75,$J27<90),"X",IF($J27<75,"","")) -> X | M27: =IF(AND($J27>=50,$J27<75),"X",IF($J27<50,"","")) | N27: =IF($J27<50,"X","")
A28: 3 | B28: Thân Thị | C28: QUYẾT | D28: 79000H05.000484 | E28: 83 | F28: ='[1]Thân Thị Quyết'!F43 -> 28 | G28: ='KL-CV'!V23 -> 50 | J28: =ROUND(F28+G28+H28-I28,1) -> 78 | K28: =IF(AND($J28>=90,$J28<=100),"X",IF($J28<90,"","")) | L28: =IF(AND($J28>=75,$J28<90),"X",IF($J28<75,"","")) -> X | M28: =IF(AND($J28>=50,$J28<75),"X",IF($J28<50,"","")) | N28: =IF($J28<50,"X","")
A29: 4 | B29: Đỗ Thị Bích | C29: THỦY | D29: 79000H05.000576 | E29: 90 | F29: ='[1]Đỗ Thị Bích Thủy'!F43 -> 28 | G29: ='KL-CV'!V24 -> 50 | J29: =ROUND(F29+G29+H29-I29,1) -> 78 | K29: =IF(AND($J29>=90,$J29<=100),"X",IF($J29<90,"","")) | L29: =IF(AND($J29>=75,$J29<90),"X",IF($J29<75,"","")) -> X | M29: =IF(AND($J29>=50,$J29<75),"X",IF($J29<50,"","")) | N29: =IF($J29<50,"X","")
A30: 5 | B30: Nguyễn Thị Thu | C30: TRANG | D30: 79000H05.000233 | E30: 84 | F30: ='[1]Nguyễn Thị Thu Trang'!F43 -> 28 | G30: ='KL-CV'!V25 -> 50 | J30: =ROUND(F30+G30+H30-I30,1) -> 78 | K30: =IF(AND($J30>=90,$J30<=100),"X",IF($J30<90,"","")) | L30: =IF(AND($J30>=75,$J30<90),"X",IF($J30<75,"","")) -> X | M30: =IF(AND($J30>=50,$J30<75),"X",IF($J30<50,"","")) | N30: =IF($J30<50,"X","")
A31: III | B31: Hợp đồng Trường
A32: 1 | B32: Dương Thị | C32: THỦY | D32: 79000H05.000523 | P32: Nghỉ hộ sản
A33: 2 | B33: Tạ Quốc | C33: TẤN | D33: 79000H05.000193 | E33: 93 | F33: ='[1]Tạ Quốc Tấn'!F43 -> 28 | G33: ='KL-CV'!V27 -> 60 | J33: =ROUND(F33+G33+H33-I33,1) -> 88 | K33: =IF(AND($J33>=90,$J33<=100),"X",IF($J33<90,"","")) | L33: =IF(AND($J33>=75,$J33<90),"X",IF($J33<75,"","")) -> X | M33: =IF(AND($J33>=50,$J33<75),"X",IF($J33<50,"","")) | N33: =IF($J33<50,"X","")
A34: 3 | B34: Nguyễn Xuân | C34: LỢI | D34: 79000H05.000489 | E34: 83 | F34: ='[1]Nguyễn Xuân Lợi'!F43 -> 25 | G34: ='KL-CV'!V28 -> 50 | J34: =ROUND(F34+G34+H34-I34,1) -> 75 | K34: =IF(AND($J34>=90,$J34<=100),"X",IF($J34<90,"","")) | L34: =IF(AND($J34>=75,$J34<90),"X",IF($J34<75,"","")) -> X | M34: =IF(AND($J34>=50,$J34<75),"X",IF($J34<50,"","")) | N34: =IF($J34<50,"X","")
A35: 4 | B35: Trần Thị Kim | C35: LOAN | D35: 79000H05.000229 | E35: 84 | F35: ='[1]Trần Thị Kim Loan'!F43 -> 26 | G35: ='KL-CV'!V29 -> 50 | J35: =ROUND(F35+G35+H35-I35,1) -> 76 | K35: =IF(AND($J35>=90,$J35<=100),"X",IF($J35<90,"","")) | L35: =IF(AND($J35>=75,$J35<90),"X",IF($J35<75,"","")) -> X | M35: =IF(AND($J35>=50,$J35<75),"X",IF($J35<50,"","")) | N35: =IF($J35<50,"X","")
A36: 5 | B36: Huỳnh Thị Thu | C36: NGA | D36: 79000H05.000533 | E36: 81 | F36: ='[1]Huỳnh Thị Thu Nga'!F43 -> 28 | G36: ='KL-CV'!V30 -> 50 | J36: =ROUND(F36+G36+H36-I36,1) -> 78 | K36: =IF(AND($J36>=90,$J36<=100),"X",IF($J36<90,"","")) | L36: =IF(AND($J36>=75,$J36<90),"X",IF($J36<75,"","")) -> X | M36: =IF(AND($J36>=50,$J36<75),"X",IF($J36<50,"","")) | N36: =IF($J36<50,"X","")
A37: 6 | B37: Lê Thị | C37: THIỆN | D37: 79000H05.000573 | E37: 76 | F37: ='[1]Lê Thị Thiện'!F43 -> 28 | G37: ='KL-CV'!V31 -> 50 | J37: =ROUND(F37+G37+H37-I37,1) -> 78 | K37: =IF(AND($J37>=90,$J37<=100),"X",IF($J37<90,"","")) | L37: =IF(AND($J37>=75,$J37<90),"X",IF($J37<75,"","")) -> X | M37: =IF(AND($J37>=50,$J37<75),"X",IF($J37<50,"","")) | N37: =IF($J37<50,"X","")
A38: 7 | B38: Võ Tấn | C38: KIỆT | D38: 79000H05.000600 | E38: 94 | F38: ='[1]Võ Tấn Kiệt'!F43 -> 31 | G38: ='KL-CV'!V32 -> 60 | J38: =ROUND(F38+G38+H38-I38,1) -> 91 | K38: =IF(AND($J38>=90,$J38<=100),"X",IF($J38<90,"","")) -> X | L38: =IF(AND($J38>=75,$J38<90),"X",IF($J38<75,"","")) | M38: =IF(AND($J38>=50,$J38<75),"X",IF($J38<50,"","")) | N38: =IF($J38<50,"X","")
A39: 8 | B39: Huỳnh Bá | C39: TRIẾT | D39: 79000H05.000602 | E39: 93 | F39: ='[1]Huỳnh Bá Triết'!F43 -> 27 | G39: ='KL-CV'!V33 -> 60 | J39: =ROUND(F39+G39+H39-I39,1) -> 87 | K39: =IF(AND($J39>=90,$J39<=100),"X",IF($J39<90,"","")) | L39: =IF(AND($J39>=75,$J39<90),"X",IF($J39<75,"","")) -> X | M39: =IF(AND($J39>=50,$J39<75),"X",IF($J39<50,"","")) | N39: =IF($J39<50,"X","")
A40: 9 | B40: Trần Thanh | C40: QUÍ | D40: 79000H05.000597 | E40: 82 | F40: ='[1]Trần Thanh Qúi'!F43 -> 27 | G40: ='KL-CV'!V34 -> 50 | J40: =ROUND(F40+G40+H40-I40,1) -> 77 | K40: =IF(AND($J40>=90,$J40<=100),"X",IF($J40<90,"","")) | L40: =IF(AND($J40>=75,$J40<90),"X",IF($J40<75,"","")) -> X | M40: =IF(AND($J40>=50,$J40<75),"X",IF($J40<50,"","")) | N40: =IF($J40<50,"X","")
K41: TP. Hồ Chí Minh, ngày 24 tháng 09 năm 2019
K42: TRƯỞNG ĐƠN VỊ (ký tên và ghi rõ họ tên)
K48: Lê Quang Liêm

Sheet KL-CV
A1: TRƯỜNG CAO ĐẲNG LÝ TỰ TRỌNG THÀNH PHỐ HỒ CHÍ MINH PHÒNG QUẢN TRỊ - DỊCH VỤ
A3: BẢNG XÁC ĐỊNH KHỐI LƯỢNG CÔNG VIỆC QUÝ III/2019
A5: STT | B5: Họ và tên | C5: Mức độ hoàn thành khối lượng công việc được giao (tối đa 90%) | D5: Mức độ hoàn thành các công việc đột xuất (tối đa 10%) | U5: Kết quả thực hiện nhiệm vụ | V5: Quy đổi ra điểm
D6: Nhiệm vụ chung của nhà trường (tối đa 5%) | O6: Nhiệm vụ riêng của từng đơn vị (tối đa 5%) | T6: Tổng tỷ lệ n nhiệm vụ
D7: Nhiệm vụ 1 | E7: Nhiệm vụ 2 | F7: Nhiệm vụ 3 | G7: Nhiệm vụ 4 | H7: Nhiệm vụ 5 | I7: Nhiệm vụ 6 | J7: Nhiệm vụ 7 | K7: Nhiệm vụ 8 | L7: Nhiệm vụ 9 | M7: Nhiệm vụ 10 | N7: Nhiệm vụ 11 | O7: Nhiệm vụ 12 | P7: Nhiệm vụ 13 | Q7: Nhiệm vụ 14 | R7: Nhiệm vụ 15 | S7: Nhiệm vụ 16
A8: 01 | B8: Lê Quang Liêm | C8: 0.9 | E8: 0.02 | J8: 0.02 | L8: 0.01 | O8: 0.01 | P8: 0.01 | Q8: 0.01 | R8: 0.01 | S8: 0.01 | T8: =IF(SUM(D8:N8)>5%,5%,SUM(D8:N8))+IF(SUM(O8:S8)>5%,5%,SUM(O8:S8)) -> 0.1 | U8: =C8+T8 -> 1 | V8: =IF(95%<=U8,60,IF(AND(90%<=U8,U8<95%),50,IF(AND(80%<=U8,U8<90%),40,IF(AND(75%<=U8,U8<80%),30,IF(AND(70%<=U8,U8<75%),20,IF(U8<70%,0,"")))))) -> 60
A9: 02 | B9: Nguyễn Văn Thành | C9: 0.9 | G9: 0.02 | K9: 0.02 | O9: 0.01 | P9: 0.01 | Q9: 0.01 | S9: 0.01 | T9: =IF(SUM(D9:N9)>5%,5%,SUM(D9:N9))+IF(SUM(O9:S9)>5%,5%,SUM(O9:S9)) -> 0.08 | U9: =C9+T9 -> 0.98 | V9: =IF(95%<=U9,60,IF(AND(90%<=U9,U9<95%),50,IF(AND(80%<=U9,U9<90%),40,IF(AND(75%<=U9,U9<80%),30,IF(AND(70%<=U9,U9<75%),20,IF(U9<70%,0,"")))))) -> 60
A10: 03 | B10: Nguyễn Trọng Phú | C10: 0.9 | O10: 0.01 | P10: 0.01 | Q10: 0.01 | R10: 0.01 | S10: 0.01 | T10: =IF(SUM(D10:N10)>5%,5%,SUM(D10:N10))+IF(SUM(O10:S10)>5%,5%,SUM(O10:S10)) -> 0.05 | U10: =C10+T10 -> 0.95 | V10: =IF(95%<=U10,60,IF(AND(90%<=U10,U10<95%),50,IF(AND(80%<=U10,U10<90%),40,IF(AND(75%<=U10,U10<80%),30,IF(AND(70%<=U10,U10<75%),20,IF(U10<70%,0,"")))))) -> 60
A11: 04 | B11: Đỗ Văn Trong | C11: 0.9 | G11: 0.02 | O11: 0.01 | P11: 0.01 | S11: 0.01 | T11: =IF(SUM(D11:N11)>5%,5%,SUM(D11:N11))+IF(SUM(O11:S11)>5%,5%,SUM(O11:S11)) -> 0.05 | U11: =C11+T11 -> 0.95 | V11: =IF(95%<=U11,60,IF(AND(90%<=U11,U11<95%),50,IF(AND(80%<=U11,U11<90%),40,IF(AND(75%<=U11,U11<80%),30,IF(AND(70%<=U11,U11<75%),20,IF(U11<70%,0,"")))))) -> 60
A12: 05 | B12: Giáp Văn Thịnh | C12: 0.9 | O12: 0.01 | P12: 0.01 | Q12: 0.01 | R12: 0.01 | S12: 0.01 | T12: =IF(SUM(D12:N12)>5%,5%,SUM(D12:N12))+IF(SUM(O12:S12)>5%,5%,SUM(O12:S12)) -> 0.05 | U12: =C12+T12 -> 0.95 | V12: =IF(95%<=U12,60,IF(AND(90%<=U12,U12<95%),50,IF(AND(80%<=U12,U12<90%),40,IF(AND(75%<=U12,U12<80%),30,IF(AND(70%<=U12,U12<75%),20,IF(U12<70%,0,"")))))) -> 60
A13: 06 | B13: Vũ Ngọc Quang | C13: 0.9 | K13: 0.02 | O13: 0.01 | P13: 0.01 | S13: 0.01 | T13: =IF(SUM(D13:N13)>5%,5%,SUM(D13:N13))+IF(SUM(O13:S13)>5%,5%,SUM(O13:S13)) -> 0.05 | U13: =C13+T13 -> 0.95 | V13: =IF(95%<=U13,60,IF(AND(90%<=U13,U13<95%),50,IF(AND(80%<=U13,U13<90%),40,IF(AND(75%<=U13,U13<80%),30,IF(AND(70%<=U13,U13<75%),20,IF(U13<70%,0,"")))))) -> 60
A14: 07 | B14: Lê Hồng Anh Tuấn | C14: 0.9 | O14: 0.01 | P14: 0.01 | Q14: 0.01 | R14: 0.01 | S14: 0.01 | T14: =IF(SUM(D14:N14)>5%,5%,SUM(D14:N14))+IF(SUM(O14:S14)>5%,5%,SUM(O14:S14)) -> 0.05 | U14: =C14+T14 -> 0.95 | V14: =IF(95%<=U14,60,IF(AND(90%<=U14,U14<95%),50,IF(AND(80%<=U14,U14<90%),40,IF(AND(75%<=U14,U14<80%),30,IF(AND(70%<=U14,U14<75%),20,IF(U14<70%,0,"")))))) -> 60
A15: 08 | B15: Ninh Đỗ Hiệp | C15: 0.9 | O15: 0.01 | P15: 0.01 | S15: 0.01 | T15: =IF(SUM(D15:N15)>5%,5%,SUM(D15:N15))+IF(SUM(O15:S15)>5%,5%,SUM(O15:S15)) -> 0.03 | U15: =C15+T15 -> 0.93 | V15: =IF(95%<=U15,60,IF(AND(90%<=U15,U15<95%),50,IF(AND(80%<=U15,U15<90%),40,IF(AND(75%<=U15,U15<80%),30,IF(AND(70%<=U15,U15<75%),20,IF(U15<70%,0,"")))))) -> 50
A16: 09 | B16: Bùi Đặng Hoàng Tuấn | C16: 0.9 | O16: 0.01 | P16: 0.01 | S16: 0.01 | T16: =IF(SUM(D16:N16)>5%,5%,SUM(D16:N16))+IF(SUM(O16:S16)>5%,5%,SUM(O16:S16)) -> 0.03 | U16: =C16+T16 -> 0.93 | V16: =IF(95%<=U16,60,IF(AND(90%<=U16,U16<95%),50,IF(AND(80%<=U16,U16<90%),40,IF(AND(75%<=U16,U16<80%),30,IF(AND(70%<=U16,U16<75%),20,IF(U16<70%,0,"")))))) -> 50
A17: 10 | B17: Nguyễn Tiến Việt Dũng | C17: 0.9 | O17: 0.01 | P17: 0.01 | S17: 0.01 | T17: =IF(SUM(D17:N17)>5%,5%,SUM(D17:N17))+IF(SUM(O17:S17)>5%,5%,SUM(O17:S17)) -> 0.03 | U17: =C17+T17 -> 0.93 | V17: =IF(95%<=U17,60,IF(AND(90%<=U17,U17<95%),50,IF(AND(80%<=U17,U17<90%),40,IF(AND(75%<=U17,U17<80%),30,IF(AND(70%<=U17,U17<75%),20,IF(U17<70%,0,"")))))) -> 50
A18: 11 | B18: Nguyễn Cao Thắng | C18: 0.9 | K18: 0.02 | O18: 0.01 | P18: 0.01 | Q18: 0.01 | S18: 0.01 | T18: =IF(SUM(D18:N18)>5%,5%,SUM(D18:N18))+IF(SUM(O18:S18)>5%,5%,SUM(O18:S18)) -> 0.06 | U18: =C18+T18 -> 0.96 | V18: =IF(95%<=U18,60,IF(AND(90%<=U18,U18<95%),50,IF(AND(80%<=U18,U18<90%),40,IF(AND(75%<=U18,U18<80%),30,IF(AND(70%<=U18,U18<75%),20,IF(U18<70%,0,"")))))) -> 60
A19: 12 | B19: Mai Thu Hương | C19: 0.9 | L19: 0.01 | O19: 0.01 | P19: 0.01 | Q19: 0.01 | S19: 0.01 | T19: =IF(SUM(D19:N19)>5%,5%,SUM(D19:N19))+IF(SUM(O19:S19)>5%,5%,SUM(O19:S19)) -> 0.05 | U19: =C19+T19 -> 0.95 | V19: =IF(95%<=U19,60,IF(AND(90%<=U19,U19<95%),50,IF(AND(80%<=U19,U19<90%),40,IF(AND(75%<=U19,U19<80%),30,IF(AND(70%<=U19,U19<75%),20,IF(U19<70%,0,"")))))) -> 60
A20: 13 | B20: Nguyễn Thùy Dương | C20: 0.9 | O20: 0.01 | P20: 0.01 | S20: 0.01 | T20: =IF(SUM(D20:N20)>5%,5%,SUM(D20:N20))+IF(SUM(O20:S20)>5%,5%,SUM(O20:S20)) -> 0.03 | U20: =C20+T20 -> 0.93 | V20: =IF(95%<=U20,60,IF(AND(90%<=U20,U20<95%),50,IF(AND(80%<=U20,U20<90%),40,IF(AND(75%<=U20,U20<80%),30,IF(AND(70%<=U20,U20<75%),20,IF(U20<70%,0,"")))))) -> 50
A21: 14 | B21: Giáp Đức Nhân | C21: 0.9 | O21: 0.01 | P21: 0.01 | Q21: 0.01 | R21: 0.01 | S21: 0.01 | T21: =IF(SUM(D21:N21)>5%,5%,SUM(D21:N21))+IF(SUM(O21:S21)>5%,5%,SUM(O21:S21)) -> 0.05 | U21: =C21+T21 -> 0.95 | V21: =IF(95%<=U21,60,IF(AND(90%<=U21,U21<95%),50,IF(AND(80%<=U21,U21<90%),40,IF(AND(75%<=U21,U21<80%),30,IF(AND(70%<=U21,U21<75%),20,IF(U21<70%,0,"")))))) -> 60
A22: 15 | B22: Nguyễn Thi Thu | C22: 0.9 | O22: 0.01 | P22: 0.01 | S22: 0.01 | T22: =IF(SUM(D22:N22)>5%,5%,SUM(D22:N22))+IF(SUM(O22:S22)>5%,5%,SUM(O22:S22)) -> 0.03 | U22: =C22+T22 -> 0.93 | V22: =IF(95%<=U22,60,IF(AND(90%<=U22,U22<95%),50,IF(AND(80%<=U22,U22<90%),40,IF(AND(75%<=U22,U22<80%),30,IF(AND(70%<=U22,U22<75%),20,IF(U22<70%,0,"")))))) -> 50
A23: 16 | B23: Thân Thi Quyết | C23: 0.9 | O23: 0.01 | P23: 0.01 | S23: 0.01 | T23: =IF(SUM(D23:N23)>5%,5%,SUM(D23:N23))+IF(SUM(O23:S23)>5%,5%,SUM(O23:S23)) -> 0.03 | U23: =C23+T23 -> 0.93 | V23: =IF(95%<=U23,60,IF(AND(90%<=U23,U23<95%),50,IF(AND(80%<=U23,U23<90%),40,IF(AND(75%<=U23,U23<80%),30,IF(AND(70%<=U23,U23<75%),20,IF(U23<70%,0,"")))))) -> 50
A24: 17 | B24: Đỗ Thị Bích Thủy | C24: 0.9 | O24: 0.01 | P24: 0.01 | S24: 0.01 | T24: =IF(SUM(D24:N24)>5%,5%,SUM(D24:N24))+IF(SUM(O24:S24)>5%,5%,SUM(O24:S24)) -> 0.03 | U24: =C24+T24 -> 0.93 | V24: =IF(95%<=U24,60,IF(AND(90%<=U24,U24<95%),50,IF(AND(80%<=U24,U24<90%),40,IF(AND(75%<=U24,U24<80%),30,IF(AND(70%<=U24,U24<75%),20,IF(U24<70%,0,"")))))) -> 50
A25: 18 | B25: Nguyễn Thi Thu Trang | C25: 0.9 | O25: 0.01 | P25: 0.01 | S25: 0.01 | T25: =IF(SUM(D25:N25)>5%,5%,SUM(D25:N25))+IF(SUM(O25:S25)>5%,5%,SUM(O25:S25)) -> 0.03 | U25: =C25+T25 -> 0.93 | V25: =IF(95%<=U25,60,IF(AND(90%<=U25,U25<95%),50,IF(AND(80%<=U25,U25<90%),40,IF(AND(75%<=U25,U25<80%),30,IF(AND(70%<=U25,U25<75%),20,IF(U25<70%,0,"")))))) -> 50
A26: 19 | B26: Dương Thị Thủy
A27: 20 | B27: Tạ Quốc Tấn | C27: 0.9 | O27: 0.01 | P27: 0.01 | Q27: 0.01 | R27: 0.01 | S27: 0.01 | T27: =IF(SUM(D27:N27)>5%,5%,SUM(D27:N27))+IF(SUM(O27:S27)>5%,5%,SUM(O27:S27)) -> 0.05 | U27: =C27+T27 -> 0.95 | V27: =IF(95%<=U27,60,IF(AND(90%<=U27,U27<95%),50,IF(AND(80%<=U27,U27<90%),40,IF(AND(75%<=U27,U27<80%),30,IF(AND(70%<=U27,U27<75%),20,IF(U27<70%,0,"")))))) -> 60
A28: 21 | B28: Nguyễn Xuân Lợi | C28: 0.9 | O28: 0.01 | P28: 0.01 | S28: 0.01 | T28: =IF(SUM(D28:N28)>5%,5%,SUM(D28:N28))+IF(SUM(O28:S28)>5%,5%,SUM(O28:S28)) -> 0.03 | U28: =C28+T28 -> 0.93 | V28: =IF(95%<=U28,60,IF(AND(90%<=U28,U28<95%),50,IF(AND(80%<=U28,U28<90%),40,IF(AND(75%<=U28,U28<80%),30,IF(AND(70%<=U28,U28<75%),20,IF(U28<70%,0,"")))))) -> 50
A29: 22 | B29: Trần Thị Kim Loan | C29: 0.9 | O29: 0.01 | P29: 0.01 | S29: 0.01 | T29: =IF(SUM(D29:N29)>5%,5%,SUM(D29:N29))+IF(SUM(O29:S29)>5%,5%,SUM(O29:S29)) -> 0.03 | U29: =C29+T29 -> 0.93 | V29: =IF(95%<=U29,60,IF(AND(90%<=U29,U29<95%),50,IF(AND(80%<=U29,U29<90%),40,IF(AND(75%<=U29,U29<80%),30,IF(AND(70%<=U29,U29<75%),20,IF(U29<70%,0,"")))))) -> 50
A30: 23 | B30: Huỳnh Thị Thu Nga | C30: 0.9 | O30: 0.01 | P30: 0.01 | S30: 0.01 | T30: =IF(SUM(D30:N30)>5%,5%,SUM(D30:N30))+IF(SUM(O30:S30)>5%,5%,SUM(O30:S30)) -> 0.03 | U30: =C30+T30 -> 0.93 | V30: =IF(95%<=U30,60,IF(AND(90%<=U30,U30<95%),50,IF(AND(80%<=U30,U30<90%),40,IF(AND(75%<=U30,U30<80%),30,IF(AND(70%<=U30,U30<75%),20,IF(U30<70%,0,"")))))) -> 50
A31: 24 | B31: Lê Thị Thiện | C31: 0.9 | O31: 0.01 | P31: 0.01 | S31: 0.01 | T31: =IF(SUM(D31:N31)>5%,5%,SUM(D31:N31))+IF(SUM(O31:S31)>5%,5%,SUM(O31:S31)) -> 0.03 | U31: =C31+T31 -> 0.93 | V31: =IF(95%<=U31,60,IF(AND(90%<=U31,U31<95%),50,IF(AND(80%<=U31,U31<90%),40,IF(AND(75%<=U31,U31<80%),30,IF(AND(70%<=U31,U31<75%),20,IF(U31<70%,0,"")))))) -> 50
A32: 25 | B32: Võ Tấn Kiệt | C32: 0.9 | K32: 0.02 | O32: 0.01 | P32: 0.01 | S32: 0.01 | T32: =IF(SUM(D32:N32)>5%,5%,SUM(D32:N32))+IF(SUM(O32:S32)>5%,5%,SUM(O32:S32)) -> 0.05 | U32: =C32+T32 -> 0.95 | V32: =IF(95%<=U32,60,IF(AND(90%<=U32,U32<95%),50,IF(AND(80%<=U32,U32<90%),40,IF(AND(75%<=U32,U32<80%),30,IF(AND(70%<=U32,U32<75%),20,IF(U32<70%,0,"")))))) -> 60
A33: 26 | B33: Huỳnh Bá Triết | C33: 0.9 | G33: 0.02 | O33: 0.01 | P33: 0.01 | S33: 0.01 | T33: =IF(SUM(D33:N33)>5%,5%,SUM(D33:N33))+IF(SUM(O33:S33)>5%,5%,SUM(O33:S33)) -> 0.05 | U33: =C33+T33 -> 0.95 | V33: =IF(95%<=U33,60,IF(AND(90%<=U33,U33<95%),50,IF(AND(80%<=U33,U33<90%),40,IF(AND(75%<=U33,U33<80%),30,IF(AND(70%<=U33,U33<75%),20,IF(U33<70%,0,"")))))) -> 60
A34: 27 | B34: Trần Thanh Quí | C34: 0.9 | T34: =IF(SUM(D34:N34)>5%,5%,SUM(D34:N34))+IF(SUM(O34:S34)>5%,5%,SUM(O34:S34)) -> 0 | U34: =C34+T34 -> 0.9 | V34: =IF(95%<=U34,60,IF(AND(90%<=U34,U34<95%),50,IF(AND(80%<=U34,U34<90%),40,IF(AND(75%<=U34,U34<80%),30,IF(AND(70%<=U34,U34<75%),20,IF(U34<70%,0,"")))))) -> 50
A35: Ghi chú: Trọng số của mỗi công việc, được căn cứ vào mức độ phức tạp, thời gian thực hiện...do Trưởng đơn vị quyết định và không vượt quá 2%.
A37: THỐNG KÊ CHI TIẾT KHỐI LƯỢNG CÔNG VIỆC ĐỘT XUẤT ĐƠN VỊ THỰC HIỆN
A39: TT | B39: Tên nội dung công việc | E39: Thời gian bắt đầu | J39: Thời gian kết thúc | O39: Tổng số cá nhân tham gia | P39: Số cá nhân tham gia không đạt yêu cầu | Q39: Tỷ lệ | R39: Ghi chú
A40: 1 | B40: Nhiệm vụ 12: Di dời khoa Nhiệt lạnh | E40: 08/07/2019 | J40: 20/07/2019 | O40: 25 | P40: 0 | Q40: 0.01
A41: 2 | B41: Nhiệm vụ 13: Di dời khoa May thời trang | E41: 22/07/2019 | J41: 03/08/2019 | O41: 25 | P41: 0 | Q41: 0.01
A42: 3 | B42: Nhiệm vụ 14: Sửa chữa cải tạo phòng học H3 | E42: 43696 | J42: 43701 | O42: 9 | P42: 0 | Q42: 0.01
A43: 4 | B43: Nhiệm vụ 15: Sửa chữa cải tạo KTX E2 | E43: 26/08/2019 | J43: 31/08/2019 | O43: 6 | P43: 0 | Q43: 0.01
A44: 5 | B44: Nhiệm vụ 16: Bế mạc hội thi TBTL | E44: 15/08/2019 | J44: 16/08/2019 | O44: 25 | P44: 0 | Q44: 0.01
...

Sheet Lê Quang Liêm
G1: Mẫu 02 B
A2: UBND THÀNH PHỐ HỒ CHÍ MINH TRƯỜNG CAO ĐẲNG LÝ TỰ TRỌNG THÀNH PHỐ HỒ CHÍ MINH | D2: CỘNG HÒA XÃ HỘI CHỦ NGHĨA VIỆT NAM Độc lập - Tự do - Hạnh phúc
A4: ĐÁNH GIÁ VÀ ĐÓNG GÓP Ý KIẾN ĐỐI VỚI ĐỒNG NGHIỆP Kỳ đánh giá: Quý 3/2019
B6: Họ và tên người được đánh giá: Lê Quang Liêm
B7: Chức vụ: Trưởng phòng
B8: Đơn vị công tác: Phòng Quản trị - Dịch vụ
B9: Mã số CBCCVC: 50200000160
A11: STT | B11: TIÊU CHÍ ĐÁNH GIÁ | E11: ĐIỂM TỐI ĐA | F11: ĐIỂM ĐỒNG NGHIỆP ĐÁNH GIÁ | G11: GHI CHÚ
A12: I | B12: Tiêu chí 1: Ý thức tổ chức kỷ luật, phẩm chất đạo đức (Ở từng tiêu chí trừ 01 điểm/lần vi phạm. Trường hợp đã trừ hết số điểm của tiêu chí nhưng tiếp tục vi phạm thì trừ bổ sung vào tổng số điểm đạt được trước khi phân loại) | E12: =E13+E17+E23+E26 -> 20 | F12: =F13+F17+F23+F26 -> 20
A13: 1 | B13: Chấp hành nghiêm về thời gian làm việc | E13: =5-(E14+E15+E16) -> 5 | F13: =5-(F14+F15+F16) -> 5
A14: 1.1 | B14: Không sử dụng quỹ thời gian làm việc vào mục đích cá nhân. Làm việc riêng trong giờ làm việc (chơi game, mua bán hàng; tụ tập trò chuyện, mang trẻ nhỏ trong các buổi họp, hội nghị,…) hình ảnh được ghi nhận từ hệ thống camera giám sát/ P.TCHCTH/ Tổ TT-PC/ Trưởng đơn vị nhắc nhở, ghi nhận một lần (-1đ). | F14: 0
A15: 1.2 | B15: Đảm bảo ngày công kế hoạch. Nghỉ làm việc (kể cả có phép) 3 ngày liên tục hoặc từ 4 đến 5 ngày (-1đ); từ 6 đến 7 ngày (-2đ); trên 7 ngày, mỗi ngày trên 7 (-0,5đ) | F15: 0
A16: 1.3 | B16: Tham gia đầy đủ, đúng giờ các buổi học chính trị, nghe thời sự, bồi dưỡng chuyên môn, nghiệp vụ,… được tổ chức tại Trường; cuộc họp của đơn vị và nhà trường. Vắng vì việc riêng có phép (-1đ/buổi) | F16: 0
A17: 2 | B17: Tuân thủ tính thứ bậc, kỷ cương và trật tự hành chính. Nghiêm túc thực hiện công việc, nhiệm vụ được giao | E17: =6-(E18+E19+E20+E21+E22) -> 6 | F17: =6-(F18+F19+F20+F21+F22) -> 6
A18: 2.1 | B18: Nộp hồ sơ cá nhân, bằng cấp, chứng chỉ… khi được Trường thông báo trễ hạn 02 lần (-1đ) | F18: 0
A19: 2.2 | B19: Sử dụng tài sản của Nhà trường vào mục đích cá nhân bị đơn vị, nhà trường nhắc nhở, ghi nhận 1 lần (-1đ) | F19: 0
A20: 2.3 | B20: Không thực hiện báo cáo, xin ý kiến, xin phép bằng văn bản đúng thẩm quyền đơn vị phân công mỗi lần (-1đ) | F20: 0
A21: 2.4 | B21: Không chấp hành sự điều động, phân công thường xuyên và đột xuất của nhà trường, đơn vị; Không thực hiện hoặc không hoàn thành các báo cáo, nhiệm vụ được giao, mỗi lần (-1đ) | F21: 0
A22: 2.5 | B22: Thực hiện các báo cáo của đơn vị trễ hạn 02 lần (-1đ) | F22: 0
A23: 3 | B23: Thực hiện tốt về giao tiếp và ứng xử đối với nhân dân; đối với cấp trên, cấp dưới và đồng nghiệp | E23: =5-(E24+E25) -> 5 | F23: =5-(F24+F25) -> 5
A24: 3.1 | B24: Có lời nói, cử chỉ, thái độ, hành động gây ảnh hưởng đến uy tín, danh dự nhà trường, đơn vị, lãnh đạo và đồng nghiệp; bị đồng nghiệp, phụ huynh, HS-SV, khách đến liên hệ phản ánh, phê bình, nhắc nhở (sau khi xác minh là sai phạm) mỗi lần (-1đ) | F24: 0
A25: 3.2 | B25: Có thái độ gây nhũng nhiễu, phiền hà, trục lợi cá nhân khi xử lý, giải quyết công việc. Vi phạm 1 lần (sau khi kết quả xác minh là sai phạm) (-1đ) | F25: 0
A26: 4 | B26: Thực hiện các nội dung khác trong Quy tắc ứng xử của cán bộ, công chức, viên chức và người lao động làm việc trong các cơ quan hành chính, đơn vị sự nghiệp công lập trên địa bàn Thành phố được ban hành kèm theo Quyết định số 67/2017/QĐ-UBND ngày 29 tháng 12 năm 2017 của Ủy ban nhân dân Thành phố và các quy tắc khác của ngành, lĩnh vực | E26: =4-(E27+E28+E29) -> 4 | F26: =4-(F27+F28+F29) -> 4
A27: 4.1 | B27: Thực hiện việc gửi, trả lời thư điện tử đến các đơn vị, cá nhân trong, ngoài trường kịp thời và lịch sự. Bị phê bình, phản ảnh 2 lần (-1đ) | F27: 0
A28: 4.2 | B28: Vi phạm quy định về trang phục, lễ phục khi làm việc, hội họp trong giờ làm việc tại trường, bị ghi nhận 02 lần trở lên (-1đ) | F28: 0
A29: 4.3 | B29: Bị ghi nhận không chấp hành nghiêm chỉnh việc đeo bảng tên cá nhân (thẻ CB-GV-NV) trong giờ làm việc tại trường 2 lần trở lên (-1đ) | F29: 0
A30: II | B30: Tiêu chí 2: Năng lực và kỹ năng | E30: =E31+E33+E35+E37+E39+E42 -> 20 | F30: =F31+F33+F35+F37+F39+F42 -> 15
A31: 5 | B31: Có năng lực tập hợp cán bộ, công chức, viên chức, xây dựng đơn vị/bộ phận đoàn kết, thống nhất | E31: 1 | F31: =F32 -> 1
B32: Đôn đốc, chỉ đạo, động viên các thành viên trong đơn vị tham gia công tác đột xuất của Nhà trường, của đơn vị đạt kết quả (1đ) | F32: 1
A33: 6 | B33: Chỉ đạo, điều hành, kiểm soát việc thực hiện nhiệm vụ của đơn vị/bộ phận đảm bảo kịp thời, không bỏ sót nhiệm vụ | E33: 2 | F33: =F34 -> 2
B34: Đơn vị thực hiện nhiệm vụ được giao đúng quy trình, quy định, đúng hạn (1đ); vi phạm/không đúng hạn 01 lần (1đ); 2 lần trở lên (0đ). | F34: 2
A35: 7 | B35: Báo cáo kịp thời, chính xác với lãnh đạo về tình hình, kết quả thực hiện nhiệm vụ được giao | E35: 2 | F35: =F36 -> 2
B36: Xây dựng kế hoạch công tác quý, tổng kết đánh giá, báo cáo kết quả thực hiện cho thành viên Ban Giám hiệu được phân công phụ trách (2đ), không thực hiện (0đ) | F36: 2
A37: 8 | B37: Phối hợp, tạo lập mối quan hệ tốt với cá nhân, tổ chức có liên quan trong thực hiện nhiệm vụ | E37: 2 | F37: =F38 -> 2
B38: Đơn vị để xảy ra mâu thuẫn mất đoàn kết nội bộ (Khiếu kiện, khiếu nại do giải quyết không thỏa đáng các sự việc liên quan đến chuyên môn của đơn vị): 1 lần (1 đ); 2 lần trở lên (0đ) | F38: 2
A39: 9 | B39: Có trên 20% nhiệm vụ hoàn thành vượt tiến độ, có chất lượng và hiệu quả (tổng điểm tiêu chuẩn không vượt quá 8đ) | E39: 8 | F39: =IF((F40+F41)>8,"8",(F40+F41)) -> 6
A40: 9.1 | B40: Đơn vị hoàn thành công việc được giao vượt tiến độ có chất lượng và hiệu quả, không sai sót chuyên môn: từ 20% đầu công việc trở lên (8đ); từ 10-<20% (5đ); từ 5<10% (3đ); dưới 5%->0% (2đ). | F40: 5
A41: 9.2 | B41: Đơn vị có sáng tạo, cải tiến phương pháp làm việc, nâng cao hiệu quả công việc, ý tưởng xây dựng môi trường làm việc xanh,sạch, đẹp được lãnh đạo nhà trường đánh giá trong các buổi họp định kỳ (có biên bản ghi nhận) hoặc tham gia xây dựng dự án/ đề án/ chương trình làm việc cấp Trường/tham gia hội thao, hội thi, hội giảng cấp đơn vị đến cấp thành phố đạt giải: 1 sáng kiến/ dự án/1 lần tham gia hội thao, hội thi, hội giảng (1đ), điểm tối đa (3đ) | F41: 1
A42: 10 | B42: Sáng tạo, cải tiến phương pháp làm việc, nâng cao hiệu quả công việc (tổng điểm tiêu chuẩn không vượt quá 5đ) | E42: 5 | F42: =IF((F43+F44)>5,"5",(F43+F44)) -> 2
A43: 10.1 | B43: Thực hiện kiểm tra, xây dựng, cải cách quy trình làm việc của đơn vị đạt hiệu quả, phù hợp với quy định hoặc có sáng kiến/giải pháp cải tiến phương pháp làm việc nâng cao hiệu quả công việc được Ban Giám hiệu đánh giá, công nhận: 1 quy trình/sáng kiến/giải pháp (1đ), điểm tối đa (5đ) | F43: 0
...

Sheet Nguyễn Văn Thành
G1: Mẫu 02 B
A2: UBND THÀNH PHỐ HỒ CHÍ MINH TRƯỜNG CAO ĐẲNG LÝ TỰ TRỌNG THÀNH PHỐ HỒ CHÍ MINH | D2: CỘNG HÒA XÃ HỘI CHỦ NGHĨA VIỆT NAM Độc lập - Tự do - Hạnh phúc
A4: ĐÁNH GIÁ VÀ ĐÓNG GÓP Ý KIẾN ĐỐI VỚI ĐỒNG NGHIỆP Kỳ đánh giá: Quý 3/2019
B6: Họ và tên người được đánh giá: Nguyễn Văn Thành
B7: Chức vụ: Phó Trưởng phòng
B8: Đơn vị công tác: Phòng Quản trị - Dịch vụ
B9: Mã số CBCCVC: 11100000723
A11: STT | B11: TIÊU CHÍ ĐÁNH GIÁ | E11: ĐIỂM TỐI ĐA | F11: ĐIỂM ĐỒNG NGHIỆP ĐÁNH GIÁ | G11: GHI CHÚ
A12: I | B12: Tiêu chí 1: Ý thức tổ chức kỷ luật, phẩm chất đạo đức (Ở từng tiêu chí trừ 01 điểm/lần vi phạm. Trường hợp đã trừ hết số điểm của tiêu chí nhưng tiếp tục vi phạm thì trừ bổ sung vào tổng số điểm đạt được trước khi phân loại) | E12: =E13+E17+E23+E26 -> 20 | F12: =F13+F17+F23+F26 -> 20
A13: 1 | B13: Chấp hành nghiêm về thời gian làm việc | E13: =5-(E14+E15+E16) -> 5 | F13: =5-(F14+F15+F16) -> 5
A14: 1.1 | B14: Không sử dụng quỹ thời gian làm việc vào mục đích cá nhân. Làm việc riêng trong giờ làm việc (chơi game, mua bán hàng; tụ tập trò chuyện, mang trẻ nhỏ trong các buổi họp, hội nghị,…) hình ảnh được ghi nhận từ hệ thống camera giám sát/ P.TCHCTH/ Tổ TT-PC/ Trưởng đơn vị nhắc nhở, ghi nhận một lần (-1đ). | F14: 0
A15: 1.2 | B15: Đảm bảo ngày công kế hoạch. Nghỉ làm việc (kể cả có phép) 3 ngày liên tục hoặc từ 4 đến 5 ngày (-1đ); từ 6 đến 7 ngày (-2đ); trên 7 ngày, mỗi ngày trên 7 (-0,5đ) | F15: 0
A16: 1.3 | B16: Tham gia đầy đủ, đúng giờ các buổi học chính trị, nghe thời sự, bồi dưỡng chuyên môn, nghiệp vụ,… được tổ chức tại Trường; cuộc họp của đơn vị và nhà trường. Vắng vì việc riêng có phép (-1đ/buổi) | F16: 0
A17: 2 | B17: Tuân thủ tính thứ bậc, kỷ cương và trật tự hành chính. Nghiêm túc thực hiện công việc, nhiệm vụ được giao | E17: =6-(E18+E19+E20+E21+E22) -> 6 | F17: =6-(F18+F19+F20+F21+F22) -> 6
A18: 2.1 | B18: Nộp hồ sơ cá nhân, bằng cấp, chứng chỉ… khi được Trường thông báo trễ hạn 02 lần (-1đ) | F18: 0
A19: 2.2 | B19: Sử dụng tài sản của Nhà trường vào mục đích cá nhân bị đơn vị, nhà trường nhắc nhở, ghi nhận 1 lần (-1đ) | F19: 0
A20: 2.3 | B20: Không thực hiện báo cáo, xin ý kiến, xin phép bằng văn bản đúng thẩm quyền đơn vị phân công mỗi lần (-1đ) | F20: 0
A21: 2.4 | B21: Không chấp hành sự điều động, phân công thường xuyên và đột xuất của nhà trường, đơn vị; Không thực hiện hoặc không hoàn thành các báo cáo, nhiệm vụ được giao, mỗi lần (-1đ) | F21: 0
A22: 2.5 | B22: Thực hiện các báo cáo của đơn vị trễ hạn 02 lần (-1đ) | F22: 0
A23: 3 | B23: Thực hiện tốt về giao tiếp và ứng xử đối với nhân dân; đối với cấp trên, cấp dưới và đồng nghiệp | E23: =5-(E24+E25) -> 5 | F23: =5-(F24+F25) -> 5
A24: 3.1 | B24: Có lời nói, cử chỉ, thái độ, hành động gây ảnh hưởng đến uy tín, danh dự nhà trường, đơn vị, lãnh đạo và đồng nghiệp; bị đồng nghiệp, phụ huynh, HS-SV, khách đến liên hệ phản ánh, phê bình, nhắc nhở (sau khi xác minh là sai phạm) mỗi lần (-1đ) | F24: 0
A25: 3.2 | B25: Có thái độ gây nhũng nhiễu, phiền hà, trục lợi cá nhân khi xử lý, giải quyết công việc. Vi phạm 1 lần (sau khi kết quả xác minh là sai phạm) (-1đ) | F25: 0
A26: 4 | B26: Thực hiện các nội dung khác trong Quy tắc ứng xử của cán bộ, công chức, viên chức và người lao động làm việc trong các cơ quan hành chính, đơn vị sự nghiệp công lập trên địa bàn Thành phố được ban hành kèm theo Quyết định số 67/2017/QĐ-UBND ngày 29 tháng 12 năm 2017 của Ủy ban nhân dân Thành phố và các quy tắc khác của ngành, lĩnh vực | E26: =4-(E27+E28+E29) -> 4 | F26: =4-(F27+F28+F29) -> 4
A27: 4.1 | B27: Thực hiện việc gửi, trả lời thư điện tử đến các đơn vị, cá nhân trong, ngoài trường kịp thời và lịch sự. Bị phê bình, phản ảnh 2 lần (-1đ) | F27: 0
A28: 4.2 | B28: Vi phạm quy định về trang phục, lễ phục khi làm việc, hội họp trong giờ làm việc tại trường, bị ghi nhận 02 lần trở lên (-1đ) | F28: 0
A29: 4.3 | B29: Bị ghi nhận không chấp hành nghiêm chỉnh việc đeo bảng tên cá nhân (thẻ CB-GV-NV) trong giờ làm việc tại trường 2 lần trở lên (-1đ) | F29: 0
A30: II | B30: Tiêu chí 2: Năng lực và kỹ năng | E30: =E31+E33+E35+E37+E39+E42 -> 20 | F30: =F31+F33+F35+F37+F39+F42 -> 12
A31: 5 | B31: Có năng lực tập hợp cán bộ, công chức, viên chức, xây dựng đơn vị/bộ phận đoàn kết, thống nhất | E31: 1 | F31: =F32 -> 1
B32: Đôn đốc, chỉ đạo, động viên các thành viên trong đơn vị tham gia công tác đột xuất của Nhà trường, của đơn vị đạt kết quả (1đ) | F32: 1
A33: 6 | B33: Chỉ đạo, điều hành, kiểm soát việc thực hiện nhiệm vụ của đơn vị/bộ phận đảm bảo kịp thời, không bỏ sót nhiệm vụ | E33: 2 | F33: =F34 -> 2
B34: Đơn vị thực hiện nhiệm vụ được giao đúng quy trình, quy định, đúng hạn (1đ); vi phạm/không đúng hạn 01 lần (1đ); 2 lần trở lên (0đ). | F34: 2
A35: 7 | B35: Báo cáo kịp thời, chính xác với lãnh đạo về tình hình, kết quả thực hiện nhiệm vụ được giao | E35: 2 | F35: =F36 -> 0
B36: Xây dựng kế hoạch công tác quý, tổng kết đánh giá, báo cáo kết quả thực hiện cho thành viên Ban Giám hiệu được phân công phụ trách (2đ), không thực hiện (0đ) | F36: 0
A37: 8 | B37: Phối hợp, tạo lập mối quan hệ tốt với cá nhân, tổ chức có liên quan trong thực hiện nhiệm vụ | E37: 2 | F37: =F38 -> 2
B38: Đơn vị để xảy ra mâu thuẫn mất đoàn kết nội bộ (Khiếu kiện, khiếu nại do giải quyết không thỏa đáng các sự việc liên quan đến chuyên môn của đơn vị): 1 lần (1 đ); 2 lần trở lên (0đ) | F38: 2
A39: 9 | B39: Có trên 20% nhiệm vụ hoàn thành vượt tiến độ, có chất lượng và hiệu quả (tổng điểm tiêu chuẩn không vượt quá 8đ) | E39: 8 | F39: =IF((F40+F41)>8,"8",(F40+F41)) -> 5
A40: 9.1 | B40: Đơn vị hoàn thành công việc được giao vượt tiến độ có chất lượng và hiệu quả, không sai sót chuyên môn: từ 20% đầu công việc trở lên (8đ); từ 10-<20% (5đ); từ 5<10% (3đ); dưới 5%->0% (2đ). | F40: 5
A41: 9.2 | B41: Đơn vị có sáng tạo, cải tiến phương pháp làm việc, nâng cao hiệu quả công việc, ý tưởng xây dựng môi trường làm việc xanh,sạch, đẹp được lãnh đạo nhà trường đánh giá trong các buổi họp định kỳ (có biên bản ghi nhận) hoặc tham gia xây dựng dự án/ đề án/ chương trình làm việc cấp Trường/tham gia hội thao, hội thi, hội giảng cấp đơn vị đến cấp thành phố đạt giải: 1 sáng kiến/ dự án/1 lần tham gia hội thao, hội thi, hội giảng (1đ), điểm tối đa (3đ) | F41: 0
A42: 10 | B42: Sáng tạo, cải tiến phương pháp làm việc, nâng cao hiệu quả công việc (tổng điểm tiêu chuẩn không vượt quá 5đ) | E42: 5 | F42: =IF((F43+F44)>5,"5",(F43+F44)) -> 2
A43: 10.1 | B43: Thực hiện kiểm tra, xây dựng, cải cách quy trình làm việc của đơn vị đạt hiệu quả, phù hợp với quy định hoặc có sáng kiến/giải pháp cải tiến phương pháp làm việc nâng cao hiệu quả công việc được Ban Giám hiệu đánh giá, công nhận: 1 quy trình/sáng kiến/giải pháp (1đ), điểm tối đa (5đ)
...

Sheet Nguyễn Trọng Phú
G1: Mẫu 02 B
A2: UBND THÀNH PHỐ HỒ CHÍ MINH TRƯỜNG CAO ĐẲNG LÝ TỰ TRỌNG THÀNH PHỐ HỒ CHÍ MINH | D2: CỘNG HÒA XÃ HỘI CHỦ NGHĨA VIỆT NAM Độc lập - Tự do - Hạnh phúc
A4: ĐÁNH GIÁ VÀ ĐÓNG GÓP Ý KIẾN ĐỐI VỚI ĐỒNG NGHIỆP Kỳ đánh giá: Quý 3/2019
B6: Họ và tên người được đánh giá: Nguyễn Trọng Phú
B7: Chức vụ: Tổ trưởng Tổ Sửa chữa
B8: Đơn vị công tác: Phòng Quản trị - Dịch vụ
B9: Mã số CBCCVC: 11100083294
A11: STT | B11: TIÊU CHÍ ĐÁNH GIÁ | E11: ĐIỂM TỐI ĐA | F11: ĐIỂM ĐỒNG NGHIỆP ĐÁNH GIÁ | G11: GHI CHÚ
A12: I | B12: Tiêu chí 1: Ý thức tổ chức kỷ luật, phẩm chất đạo đức (Ở từng tiêu chí trừ 01 điểm/lần vi phạm. Trường hợp đã trừ hết số điểm của tiêu chí nhưng tiếp tục vi phạm thì trừ bổ sung vào tổng số điểm đạt được trước khi phân loại) | E12: =E13+E17+E23+E26 -> 20 | F12: =F13+F17+F23+F26 -> 20
A13: 1 | B13: Chấp hành nghiêm về thời gian làm việc | E13: =5-(E14+E15+E16) -> 5 | F13: =5-(F14+F15+F16) -> 5
A14: 1.1 | B14: Không sử dụng quỹ thời gian làm việc vào mục đích cá nhân. Làm việc riêng trong giờ làm việc (chơi game, mua bán hàng; tụ tập trò chuyện, mang trẻ nhỏ trong các buổi họp, hội nghị,…) hình ảnh được ghi nhận từ hệ thống camera giám sát/ P.TCHCTH/ Tổ TT-PC/ Trưởng đơn vị nhắc nhở, ghi nhận một lần (-1đ). | F14: 0
A15: 1.2 | B15: Đảm bảo ngày công kế hoạch. Nghỉ làm việc (kể cả có phép) 3 ngày liên tục hoặc từ 4 đến 5 ngày (-1đ); từ 6 đến 7 ngày (-2đ); trên 7 ngày, mỗi ngày trên 7 (-0,5đ) | F15: 0
A16: 1.3 | B16: Tham gia đầy đủ, đúng giờ các buổi học chính trị, nghe thời sự, bồi dưỡng chuyên môn, nghiệp vụ,… được tổ chức tại Trường; cuộc họp của đơn vị và nhà trường. Vắng vì việc riêng có phép (-1đ/buổi) | F16: 0
A17: 2 | B17: Tuân thủ tính thứ bậc, kỷ cương và trật tự hành chính. Nghiêm túc thực hiện công việc, nhiệm vụ được giao | E17: =6-(E18+E19+E20+E21+E22) -> 6 | F17: =6-(F18+F19+F20+F21+F22) -> 6
A18: 2.1 | B18: Nộp hồ sơ cá nhân, bằng cấp, chứng chỉ… khi được Trường thông báo trễ hạn 02 lần (-1đ) | F18: 0
A19: 2.2 | B19: Sử dụng tài sản của Nhà trường vào mục đích cá nhân bị đơn vị, nhà trường nhắc nhở, ghi nhận 1 lần (-1đ) | F19: 0
A20: 2.3 | B20: Không thực hiện báo cáo, xin ý kiến, xin phép bằng văn bản đúng thẩm quyền đơn vị phân công mỗi lần (-1đ) | F20: 0
A21: 2.4 | B21: Không chấp hành sự điều động, phân công thường xuyên và đột xuất của nhà trường, đơn vị; Không thực hiện hoặc không hoàn thành các báo cáo, nhiệm vụ được giao, mỗi lần (-1đ) | F21: 0
A22: 2.5 | B22: Thực hiện các báo cáo của đơn vị trễ hạn 02 lần (-1đ) | F22: 0
A23: 3 | B23: Thực hiện tốt về giao tiếp và ứng xử đối với nhân dân; đối với cấp trên, cấp dưới và đồng nghiệp | E23: =5-(E24+E25) -> 5 | F23: =5-(F24+F25) -> 5
A24: 3.1 | B24: Có lời nói, cử chỉ, thái độ, hành động gây ảnh hưởng đến uy tín, danh dự nhà trường, đơn vị, lãnh đạo và đồng nghiệp; bị đồng nghiệp, phụ huynh, HS-SV, khách đến liên hệ phản ánh, phê bình, nhắc nhở (sau khi xác minh là sai phạm) mỗi lần (-1đ) | F24: 0
A25: 3.2 | B25: Có thái độ gây nhũng nhiễu, phiền hà, trục lợi cá nhân khi xử lý, giải quyết công việc. Vi phạm 1 lần (sau khi kết quả xác minh là sai phạm) (-1đ) | F25: 0
A26: 4 | B26: Thực hiện các nội dung khác trong Quy tắc ứng xử của cán bộ, công chức, viên chức và người lao động làm việc trong các cơ quan hành chính, đơn vị sự nghiệp công lập trên địa bàn Thành phố được ban hành kèm theo Quyết định số 67/2017/QĐ-UBND ngày 29 tháng 12 năm 2017 của Ủy ban nhân dân Thành phố và các quy tắc khác của ngành, lĩnh vực | E26: =4-(E27+E28+E29) -> 4 | F26: =4-(F27+F28+F29) -> 4
A27: 4.1 | B27: Thực hiện việc gửi, trả lời thư điện tử đến các đơn vị, cá nhân trong, ngoài trường kịp thời và lịch sự. Bị phê bình, phản ảnh 2 lần (-1đ) | F27: 0
A28: 4.2 | B28: Vi phạm quy định về trang phục, lễ phục khi làm việc, hội họp trong giờ làm việc tại trường, bị ghi nhận 02 lần trở lên (-1đ) | F28: 0
A29: 4.3 | B29: Bị ghi nhận không chấp hành nghiêm chỉnh việc đeo bảng tên cá nhân (thẻ CB-GV-NV) trong giờ làm việc tại trường 2 lần trở lên (-1đ) | F29: 0
A30: II | B30: Tiêu chí 2: Năng lực và kỹ năng | E30: =E31+E33+E35+E37+E39+E42 -> 20 | F30: =F31+F33+F35+F37+F39+F42 -> 11
A31: 5 | B31: Có năng lực tập hợp cán bộ, công chức, viên chức, xây dựng đơn vị/bộ phận đoàn kết, thống nhất | E31: 1 | F31: =F32 -> 1
B32: Đôn đốc, chỉ đạo, động viên các thành viên trong đơn vị tham gia công tác đột xuất của Nhà trường, của đơn vị đạt kết quả (1đ) | F32: 1
A33: 6 | B33: Chỉ đạo, điều hành, kiểm soát việc thực hiện nhiệm vụ của đơn vị/bộ phận đảm bảo kịp thời, không bỏ sót nhiệm vụ | E33: 2 | F33: =F34 -> 2
B34: Đơn vị thực hiện nhiệm vụ được giao đúng quy trình, quy định, đúng hạn (1đ); vi phạm/không đúng hạn 01 lần (1đ); 2 lần trở lên (0đ). | F34: 2
A35: 7 | B35: Báo cáo kịp thời, chính xác với lãnh đạo về tình hình, kết quả thực hiện nhiệm vụ được giao | E35: 2 | F35: =F36 -> 0
B36: Xây dựng kế hoạch công tác quý, tổng kết đánh giá, báo cáo kết quả thực hiện cho thành viên Ban Giám hiệu được phân công phụ trách (2đ), không thực hiện (0đ) | F36: 0
A37: 8 | B37: Phối hợp, tạo lập mối quan hệ tốt với cá nhân, tổ chức có liên quan trong thực hiện nhiệm vụ | E37: 2 | F37: =F38 -> 2
B38: Đơn vị để xảy ra mâu thuẫn mất đoàn kết nội bộ (Khiếu kiện, khiếu nại do giải quyết không thỏa đáng các sự việc liên quan đến chuyên môn của đơn vị): 1 lần (1 đ); 2 lần trở lên (0đ) | F38: 2
A39: 9 | B39: Có trên 20% nhiệm vụ hoàn thành vượt tiến độ, có chất lượng và hiệu quả (tổng điểm tiêu chuẩn không vượt quá 8đ) | E39: 8 | F39: =IF((F40+F41)>8,"8",(F40+F41)) -> 4
A40: 9.1 | B40: Đơn vị hoàn thành công việc được giao vượt tiến độ có chất lượng và hiệu quả, không sai sót chuyên môn: từ 20% đầu công việc trở lên (8đ); từ 10-<20% (5đ); từ 5<10% (3đ); dưới 5%->0% (2đ). | F40: 4
A41: 9.2 | B41: Đơn vị có sáng tạo, cải tiến phương pháp làm việc, nâng cao hiệu quả công việc, ý tưởng xây dựng môi trường làm việc xanh,sạch, đẹp được lãnh đạo nhà trường đánh giá trong các buổi họp định kỳ (có biên bản ghi nhận) hoặc tham gia xây dựng dự án/ đề án/ chương trình làm việc cấp Trường/tham gia hội thao, hội thi, hội giảng cấp đơn vị đến cấp thành phố đạt giải: 1 sáng kiến/ dự án/1 lần tham gia hội thao, hội thi, hội giảng (1đ), điểm tối đa (3đ) | F41: 0
A42: 10 | B42: Sáng tạo, cải tiến phương pháp làm việc, nâng cao hiệu quả công việc (tổng điểm tiêu chuẩn không vượt quá 5đ) | E42: 5 | F42: =IF((F43+F44)>5,"5",(F43+F44)) -> 2
A43: 10.1 | B43: Thực hiện kiểm tra, xây dựng, cải cách quy trình làm việc của đơn vị đạt hiệu quả, phù hợp với quy định hoặc có sáng kiến/giải pháp cải tiến phương pháp làm việc nâng cao hiệu quả công việc được Ban Giám hiệu đánh giá, công nhận: 1 quy trình/sáng kiến/giải pháp (1đ), điểm tối đa (5đ) | F43: 0
...

Sheet Trần Thị Thu
G1: Mẫu 02 B
A2: UBND THÀNH PHỐ HỒ CHÍ MINH TRƯỜNG CAO ĐẲNG LÝ TỰ TRỌNG THÀNH PHỐ HỒ CHÍ MINH | D2: CỘNG HÒA XÃ HỘI CHỦ NGHĨA VIỆT NAM Độc lập - Tự do - Hạnh phúc
A4: ĐÁNH GIÁ VÀ ĐÓNG GÓP Ý KIẾN ĐỐI VỚI ĐỒNG NGHIỆP Kỳ đánh giá: Quý 3/2019
B6: Họ và tên người được đánh giá: Trần Thị Thu
B7: Chức vụ: Tổ trưởng Tổ Môi trường
B8: Đơn vị công tác: Phòng Quản trị - Dịch vụ
B9: Mã số CBCCVC: 79000H05.000200
A11: STT | B11: TIÊU CHÍ ĐÁNH GIÁ | E11: ĐIỂM TỐI ĐA | F11: ĐIỂM ĐỒNG NGHIỆP ĐÁNH GIÁ | G11: GHI CHÚ
A12: I | B12: Tiêu chí 1: Ý thức tổ chức kỷ luật, phẩm chất đạo đức (Ở từng tiêu chí trừ 01 điểm/lần vi phạm. Trường hợp đã trừ hết số điểm của tiêu chí nhưng tiếp tục vi phạm thì trừ bổ sung vào tổng số điểm đạt được trước khi phân loại) | E12: =E13+E17+E23+E26 -> 20 | F12: =F13+F17+F23+F26 -> 20
A13: 1 | B13: Chấp hành nghiêm về thời gian làm việc | E13: =5-(E14+E15+E16) -> 5 | F13: =5-(F14+F15+F16) -> 5
A14: 1.1 | B14: Không sử dụng quỹ thời gian làm việc vào mục đích cá nhân. Làm việc riêng trong giờ làm việc (chơi game, mua bán hàng; tụ tập trò chuyện, mang trẻ nhỏ trong các buổi họp, hội nghị,…) hình ảnh được ghi nhận từ hệ thống camera giám sát/ P.TCHCTH/ Tổ TT-PC/ Trưởng đơn vị nhắc nhở, ghi nhận một lần (-1đ). | F14: 0
A15: 1.2 | B15: Đảm bảo ngày công kế hoạch. Nghỉ làm việc (kể cả có phép) 3 ngày liên tục hoặc từ 4 đến 5 ngày (-1đ); từ 6 đến 7 ngày (-2đ); trên 7 ngày, mỗi ngày trên 7 (-0,5đ) | F15: 0
A16: 1.3 | B16: Tham gia đầy đủ, đúng giờ các buổi học chính trị, nghe thời sự, bồi dưỡng chuyên môn, nghiệp vụ,… được tổ chức tại Trường; cuộc họp của đơn vị và nhà trường. Vắng vì việc riêng có phép (-1đ/buổi) | F16: 0
A17: 2 | B17: Tuân thủ tính thứ bậc, kỷ cương và trật tự hành chính. Nghiêm túc thực hiện công việc, nhiệm vụ được giao | E17: =6-(E18+E19+E20+E21+E22) -> 6 | F17: =6-(F18+F19+F20+F21+F22) -> 6
A18: 2.1 | B18: Nộp hồ sơ cá nhân, bằng cấp, chứng chỉ… khi được Trường thông báo trễ hạn 02 lần (-1đ) | F18: 0
A19: 2.2 | B19: Sử dụng tài sản của Nhà trường vào mục đích cá nhân bị đơn vị, nhà trường nhắc nhở, ghi nhận 1 lần (-1đ) | F19: 0
A20: 2.3 | B20: Không thực hiện báo cáo, xin ý kiến, xin phép bằng văn bản đúng thẩm quyền đơn vị phân công mỗi lần (-1đ) | F20: 0
A21: 2.4 | B21: Không chấp hành sự điều động, phân công thường xuyên và đột xuất của nhà trường, đơn vị; Không thực hiện hoặc không hoàn thành các báo cáo, nhiệm vụ được giao, mỗi lần (-1đ) | F21: 0
A22: 2.5 | B22: Thực hiện các báo cáo của đơn vị trễ hạn 02 lần (-1đ) | F22: 0
A23: 3 | B23: Thực hiện tốt về giao tiếp và ứng xử đối với nhân dân; đối với cấp trên, cấp dưới và đồng nghiệp | E23: =5-(E24+E25) -> 5 | F23: =5-(F24+F25) -> 5
A24: 3.1 | B24: Có lời nói, cử chỉ, thái độ, hành động gây ảnh hưởng đến uy tín, danh dự nhà trường, đơn vị, lãnh đạo và đồng nghiệp; bị đồng nghiệp, phụ huynh, HS-SV, khách đến liên hệ phản ánh, phê bình, nhắc nhở (sau khi xác minh là sai phạm) mỗi lần (-1đ) | F24: 0
A25: 3.2 | B25: Có thái độ gây nhũng nhiễu, phiền hà, trục lợi cá nhân khi xử lý, giải quyết công việc. Vi phạm 1 lần (sau khi kết quả xác minh là sai phạm) (-1đ) | F25: 0
A26: 4 | B26: Thực hiện các nội dung khác trong Quy tắc ứng xử của cán bộ, công chức, viên chức và người lao động làm việc trong các cơ quan hành chính, đơn vị sự nghiệp công lập trên địa bàn Thành phố được ban hành kèm theo Quyết định số 67/2017/QĐ-UBND ngày 29 tháng 12 năm 2017 của Ủy ban nhân dân Thành phố và các quy tắc khác của ngành, lĩnh vực | E26: =4-(E27+E28+E29) -> 4 | F26: =4-(F27+F28+F29) -> 4
A27: 4.1 | B27: Thực hiện việc gửi, trả lời thư điện tử đến các đơn vị, cá nhân trong, ngoài trường kịp thời và lịch sự. Bị phê bình, phản ảnh 2 lần (-1đ) | F27: 0
A28: 4.2 | B28: Vi phạm quy định về trang phục, lễ phục khi làm việc, hội họp trong giờ làm việc tại trường, bị ghi nhận 02 lần trở lên (-1đ) | F28: 0
A29: 4.3 | B29: Bị ghi nhận không chấp hành nghiêm chỉnh việc đeo bảng tên cá nhân (thẻ CB-GV-NV) trong giờ làm việc tại trường 2 lần trở lên (-1đ) | F29: 0
A30: II | B30: Tiêu chí 2: Năng lực và kỹ năng | E30: =E31+E33+E35+E37+E39+E42 -> 20 | F30: =F31+F33+F35+F37+F39+F42 -> 10
A31: 5 | B31: Có năng lực tập hợp cán bộ, công chức, viên chức, xây dựng đơn vị/bộ phận đoàn kết, thống nhất | E31: 1 | F31: =F32 -> 1
B32: Đôn đốc, chỉ đạo, động viên các thành viên trong đơn vị tham gia công tác đột xuất của Nhà trường, của đơn vị đạt kết quả (1đ) | F32: 1
A33: 6 | B33: Chỉ đạo, điều hành, kiểm soát việc thực hiện nhiệm vụ của đơn vị/bộ phận đảm bảo kịp thời, không bỏ sót nhiệm vụ | E33: 2 | F33: =F34 -> 2
B34: Đơn vị thực hiện nhiệm vụ được giao đúng quy trình, quy định, đúng hạn (1đ); vi phạm/không đúng hạn 01 lần (1đ); 2 lần trở lên (0đ). | F34: 2
A35: 7 | B35: Báo cáo kịp thời, chính xác với lãnh đạo về tình hình, kết quả thực hiện nhiệm vụ được giao | E35: 2 | F35: =F36 -> 0
B36: Xây dựng kế hoạch công tác quý, tổng kết đánh giá, báo cáo kết quả thực hiện cho thành viên Ban Giám hiệu được phân công phụ trách (2đ), không thực hiện (0đ) | F36: 0
A37: 8 | B37: Phối hợp, tạo lập mối quan hệ tốt với cá nhân, tổ chức có liên quan trong thực hiện nhiệm vụ | E37: 2 | F37: =F38 -> 2
B38: Đơn vị để xảy ra mâu thuẫn mất đoàn kết nội bộ (Khiếu kiện, khiếu nại do giải quyết không thỏa đáng các sự việc liên quan đến chuyên môn của đơn vị): 1 lần (1 đ); 2 lần trở lên (0đ) | F38: 2
A39: 9 | B39: Có trên 20% nhiệm vụ hoàn thành vượt tiến độ, có chất lượng và hiệu quả (tổng điểm tiêu chuẩn không vượt quá 8đ) | E39: 8 | F39: =IF((F40+F41)>8,"8",(F40+F41)) -> 3
A40: 9.1 | B40: Đơn vị hoàn thành công việc được giao vượt tiến độ có chất lượng và hiệu quả, không sai sót chuyên môn: từ 20% đầu công việc trở lên (8đ); từ 10-<20% (5đ); từ 5<10% (3đ); dưới 5%->0% (2đ). | F40: 3
A41: 9.2 | B41: Đơn vị có sáng tạo, cải tiến phương pháp làm việc, nâng cao hiệu quả công việc, ý tưởng xây dựng môi trường làm việc xanh,sạch, đẹp được lãnh đạo nhà trường đánh giá trong các buổi họp định kỳ (có biên bản ghi nhận) hoặc tham gia xây dựng dự án/ đề án/ chương trình làm việc cấp Trường/tham gia hội thao, hội thi, hội giảng cấp đơn vị đến cấp thành phố đạt giải: 1 sáng kiến/ dự án/1 lần tham gia hội thao, hội thi, hội giảng (1đ), điểm tối đa (3đ) | F41: 0
A42: 10 | B42: Sáng tạo, cải tiến phương pháp làm việc, nâng cao hiệu quả công việc (tổng điểm tiêu chuẩn không vượt quá 5đ) | E42: 5 | F42: =IF((F43+F44)>5,"5",(F43+F44)) -> 2
A43: 10.1 | B43: Thực hiện kiểm tra, xây dựng, cải cách quy trình làm việc của đơn vị đạt hiệu quả, phù hợp với quy định hoặc có sáng kiến/giải pháp cải tiến phương pháp làm việc nâng cao hiệu quả công việc được Ban Giám hiệu đánh giá, công nhận: 1 quy trình/sáng kiến/giải pháp (1đ), điểm tối đa (5đ) | F43: 0
...

Sheet Đỗ Văn Trong
G1: Mẫu 02 D
A2: UBND THÀNH PHỐ HỒ CHÍ MINH TRƯỜNG CAO ĐẲNG LÝ TỰ TRỌNG THÀNH PHỐ HỒ CHÍ MINH | D2: CỘNG HÒA XÃ HỘI CHỦ NGHĨA VIỆT NAM Độc lập - Tự do - Hạnh phúc
A4: ĐÁNH GIÁ VÀ ĐÓNG GÓP Ý KIẾN ĐỐI VỚI ĐỒNG NGHIỆP Kỳ đánh giá: Quý 2/2019
B5: Họ và tên người được đánh giá: Đỗ Văn Trong
B6: Chức vụ: Nhân viên
B7: Đơn vị công tác: Phòng Quản trị - Dịch vụ
B8: Mã số CBCCVC: 11100071601
A10: STT | B10: TIÊU CHÍ ĐÁNH GIÁ | E10: ĐIỂM TỐI ĐA | F10: ĐIỂM ĐỒNG NGHIỆP ĐÁNH GIÁ | G10: GHI CHÚ
A11: I | B11: Tiêu chí 1: Ý thức tổ chức kỷ luật, phẩm chất đạo đức (Ở từng tiêu chí trừ 01 điểm/lần vi phạm. Trường hợp đã trừ hết số điểm của tiêu chí nhưng tiếp tục vi phạm thì trừ bổ sung vào tổng số điểm đạt được trước khi phân loại) | E11: =E12+E16+E22+E25 -> 20 | F11: =F12+F16+F22+F25 -> 19
A12: 1 | B12: Chấp hành nghiêm về thời gian làm việc | E12: =5-(E13+E14+E15) -> 5 | F12: =5-(F13+F14+F15) -> 4
A13: 1.1 | B13: Không sử dụng quỹ thời gian làm việc vào mục đích cá nhân. Làm việc riêng trong giờ làm việc (chơi game, mua bán hàng; tụ tập trò chuyện, mang trẻ nhỏ trong các buổi họp, hội nghị,…) hình ảnh được ghi nhận từ hệ thống camera giám sát/ P.TCHCTH/ Tổ TT-PC/ Trưởng đơn vị nhắc nhở, ghi nhận một lần (-1đ). | F13: 0
A14: 1.2 | B14: Đảm bảo ngày công kế hoạch. Nghỉ làm việc (kể cả có phép) 3 ngày liên tục hoặc từ 4 đến 5 ngày (-1đ); từ 6 đến 7 ngày (-2đ); trên 7 ngày, mỗi ngày trên 7 (-0,5đ) | F14: 1
A15: 1.3 | B15: Tham gia đầy đủ, đúng giờ các buổi học chính trị, nghe thời sự, bồi dưỡng chuyên môn, nghiệp vụ,… được tổ chức tại Trường; cuộc họp của đơn vị và nhà trường (1đ). Vắng vì việc riêng có phép (-1đ/buổi) | F15: 0
A16: 2 | B16: Tuân thủ tính thứ bậc, kỷ cương và trật tự hành chính. Nghiêm túc thực hiện công việc, nhiệm vụ được giao | E16: =6-(E17+E18+E19+E20+E21) -> 6 | F16: =6-(F17+F18+F19+F20+F21) -> 6
A17: 2.1 | B17: Nộp hồ sơ cá nhân, bằng cấp, chứng chỉ… khi được Trường thông báo trễ hạn 02 lần (-1đ) | F17: 0
A18: 2.2 | B18: Sử dụng tài sản của Nhà trường vào mục đích cá nhân bị đơn vị, nhà trường nhắc nhở, ghi nhận 1 lần (-1đ) | F18: 0
A19: 2.3 | B19: Không thực hiện báo cáo, xin ý kiến, xin phép bằng văn bản đúng thẩm quyền đơn vị phân công mỗi lần (-1đ) | F19: 0
A20: 2.4 | B20: Không chấp hành sự điều động, phân công thường xuyên và đột xuất của Trưởng đơn vị; Không thực hiện hoặc không hoàn thành các báo cáo, nhiệm vụ được giao, mỗi lần (-1đ) | F20: 0
A21: 2.5 | B21: Thực hiện các báo cáo của đơn vị trễ hạn 02 lần (-1đ) | F21: 0
A22: 3 | B22: Thực hiện tốt về giao tiếp và ứng xử đối với nhân dân; đối với cấp trên, cấp dưới và đồng nghiệp | E22: =5-(E23+E24) -> 5 | F22: =5-(F23+F24) -> 5
A23: 3.1 | B23: Có lời nói, cử chỉ, thái độ, hành động gây ảnh hưởng đến uy tín, danh dự nhà trường, đơn vị, lãnh đạo và đồng nghiệp; bị đồng nghiệp, phụ huynh, HS-SV, khách đến liên hệ phản ánh, phê bình, nhắc nhở (sau khi xác minh là sai phạm) mỗi lần (-1đ) | F23: 0
A24: 3.2 | B24: Có thái độ gây nhũng nhiễu, phiền hà, trục lợi cá nhân khi xử lý, giải quyết công việc. Vi phạm 1 lần (sau khi kết quả xác minh là sai phạm) (-1đ) | F24: 0
A25: 4 | B25: Thực hiện các nội dung khác trong Quy tắc ứng xử của cán bộ, công chức, viên chức và người lao động làm việc trong các cơ quan hành chính, đơn vị sự nghiệp công lập trên địa bàn Thành phố được ban hành kèm theo Quyết định số 67/2017/QĐ-UBND ngày 29 tháng 12 năm 2017 của Ủy ban nhân dân Thành phố và các quy tắc khác của ngành, lĩnh vực | E25: =4-(E26+E27+E28) -> 4 | F25: =4-(F26+F27+F28) -> 4
A26: 4.1 | B26: Thực hiện việc gửi, trả lời thư điện tử đến các đơn vị, cá nhân trong, ngoài trường kịp thời và lịch sự. Bị phê bình, phản ảnh 2 lần (-1đ) | F26: 0
A27: 4.2 | B27: Vi phạm quy định về trang phục, lễ phục khi làm việc, hội họp trong giờ làm việc tại trường, bị ghi nhận 02 lần trở lên (-1đ) | F27: 0
A28: 4.3 | B28: Bị ghi nhận không chấp hành nghiêm chỉnh việc đeo bảng tên cá nhân (thẻ CB-GV-NV) trong giờ làm việc tại trường 2 lần trở lên (-1đ) | F28: 0
A29: II | B29: Tiêu chí 2: Năng lực và kỹ năng | E29: =E30+E32+E34+E36+E38+E41 -> 20 | F29: =F30+F32+F34+F36+F38+F41 -> 7
A30: 5 | B30: Chủ động nghiên cứu, cập nhật kịp thời các kiến thức pháp luật và chuyên môn nghiệp vụ để tham mưu, tổ chức thực hiện công việc có chất lượng. | E30: 1 | F30: =F31 -> 1
B31: Cá nhân chủ động cập nhật, vận dụng các văn bản, ứng dụng công nghệ kỹ thuật mới, thực hiện nhiệm vụ được giao đúng quy trình, quy định (1đ); không đúng quy trình, quy định 1 lần (0,5đ); 2 lần trở lên (0đ) | F31: 1
A32: 6 | B32: Chủ động đề xuất tham mưu giải quyết công việc | E32: 2 | F32: =F33 -> 0
B33: Chủ động đề xuất ý kiến với Trưởng đơn vị giải quyết công việc kịp thời được đơn vị công nhận: 1 lần ghi nhận (1đ), điểm tối đa của tiêu chí (2đ) | F33: 0
A34: 7 | B34: Báo cáo kịp thời, chính xác với lãnh đạo về tình hình, kết quả thực hiện nhiệm vụ được giao | E34: 2 | F34: =F35 -> 2
B35: Báo cáo kịp thời, chính xác với lãnh đạo về tình hình, kết quả thực hiện nhiệm vụ được giao (2đ), không báo cáo kịp thời 1 lần (1đ); 2 lần trở lên (0đ) | F35: 2
A36: 8 | B36: Phối hợp, tạo lập mối quan hệ tốt với cá nhân, tổ chức có liên quan trong thực hiện nhiệm vụ | E36: 2 | F36: =F37 -> 2
B37: Thực hiện xây dựng nội bộ đoàn kết (2đ). Cá nhân gây mâu thuẫn 1 lần (1đ); 2 lần trở lên hoặc tham gia vận động gây mất đoàn kết nội bộ trong trường, đơn vị (0đ) | F37: 2
A38: 9 | B38: Có trên 20% nhiệm vụ hoàn thành vượt tiến độ, có chất lượng và hiệu quả (tổng điểm tiêu chuẩn không vượt quá 8đ) | E38: 8 | F38: =IF((F39+F40)>8,"8",(F39+F40)) -> 2
A39: 9.1 | B39: Hoàn thành công việc được giao vượt tiến độ có chất lượng và hiệu quả, không sai sót chuyên môn: từ 20% đầu công việc trở lên (8đ); từ 10-<20% (5đ); từ 5<10% (3đ); dưới 5%->0% (2đ). | F39: 2
A40: 9.2 | B40: Có tham gia góp ý xây dựng cải cách quy trình làm việc, kế hoạch công tác, chương trình hành động của đơn vị/nhà trường (được đơn vị phụ trách công tác tổng hợp ghi nhận/trưởng đơn vị ghi nhận), mỗi lần (1đ), tối đa (3đ) | F40: 0
A41: 10 | B41: Sáng tạo, cải tiến phương pháp làm việc, nâng cao hiệu quả công việc | E41: 5 | F41: =F42 -> 0
B42: Có sáng tạo, cải tiến phương pháp làm việc, nâng cao hiệu quả công việc, có ý tưởng xây dựng môi trường xanh, sạch, đẹp được đơn vị đánh giá trong các buổi họp (có biên bản ghi nhận) hoặc tham gia xây dựng dự án/ đề án/ chương trình làm việc cấp Trường/tham gia hội thao, hội thi cấp đơn vị đến cấp thành phố đạt giải: 1 sáng kiến/ dự án/ 1 lần tham gia hội thao, hội thi (1đ), điểm tối đa (5đ) | F42: 0
...

Sheet Giáp Văn Thịnh
G1: Mẫu 02 D
A2: UBND THÀNH PHỐ HỒ CHÍ MINH TRƯỜNG CAO ĐẲNG LÝ TỰ TRỌNG THÀNH PHỐ HỒ CHÍ MINH | D2: CỘNG HÒA XÃ HỘI CHỦ NGHĨA VIỆT NAM Độc lập - Tự do - Hạnh phúc
A4: ĐÁNH GIÁ VÀ ĐÓNG GÓP Ý KIẾN ĐỐI VỚI ĐỒNG NGHIỆP Kỳ đánh giá: Quý 2/2019
B5: Họ và tên người được đánh giá: Giáp Văn Thịnh
B6: Chức vụ: Nhân viên
B7: Đơn vị công tác: Phòng Quản trị - Dịch vụ
B8: Mã số CBCCVC: 11100071601
A10: STT | B10: TIÊU CHÍ ĐÁNH GIÁ | E10: ĐIỂM TỐI ĐA | F10: ĐIỂM ĐỒNG NGHIỆP ĐÁNH GIÁ | G10: GHI CHÚ
A11: I | B11: Tiêu chí 1: Ý thức tổ chức kỷ luật, phẩm chất đạo đức (Ở từng tiêu chí trừ 01 điểm/lần vi phạm. Trường hợp đã trừ hết số điểm của tiêu chí nhưng tiếp tục vi phạm thì trừ bổ sung vào tổng số điểm đạt được trước khi phân loại) | E11: =E12+E16+E22+E25 -> 20 | F11: =F12+F16+F22+F25 -> 20
A12: 1 | B12: Chấp hành nghiêm về thời gian làm việc | E12: =5-(E13+E14+E15) -> 5 | F12: =5-(F13+F14+F15) -> 5
A13: 1.1 | B13: Không sử dụng quỹ thời gian làm việc vào mục đích cá nhân. Làm việc riêng trong giờ làm việc (chơi game, mua bán hàng; tụ tập trò chuyện, mang trẻ nhỏ trong các buổi họp, hội nghị,…) hình ảnh được ghi nhận từ hệ thống camera giám sát/ P.TCHCTH/ Tổ TT-PC/ Trưởng đơn vị nhắc nhở, ghi nhận một lần (-1đ). | F13: 0
A14: 1.2 | B14: Đảm bảo ngày công kế hoạch. Nghỉ làm việc (kể cả có phép) 3 ngày liên tục hoặc từ 4 đến 5 ngày (-1đ); từ 6 đến 7 ngày (-2đ); trên 7 ngày, mỗi ngày trên 7 (-0,5đ) | F14: 0
A15: 1.3 | B15: Tham gia đầy đủ, đúng giờ các buổi học chính trị, nghe thời sự, bồi dưỡng chuyên môn, nghiệp vụ,… được tổ chức tại Trường; cuộc họp của đơn vị và nhà trường (1đ). Vắng vì việc riêng có phép (-1đ/buổi) | F15: 0
A16: 2 | B16: Tuân thủ tính thứ bậc, kỷ cương và trật tự hành chính. Nghiêm túc thực hiện công việc, nhiệm vụ được giao | E16: =6-(E17+E18+E19+E20+E21) -> 6 | F16: =6-(F17+F18+F19+F20+F21) -> 6
A17: 2.1 | B17: Nộp hồ sơ cá nhân, bằng cấp, chứng chỉ… khi được Trường thông báo trễ hạn 02 lần (-1đ) | F17: 0
A18: 2.2 | B18: Sử dụng tài sản của Nhà trường vào mục đích cá nhân bị đơn vị, nhà trường nhắc nhở, ghi nhận 1 lần (-1đ) | F18: 0
A19: 2.3 | B19: Không thực hiện báo cáo, xin ý kiến, xin phép bằng văn bản đúng thẩm quyền đơn vị phân công mỗi lần (-1đ) | F19: 0
A20: 2.4 | B20: Không chấp hành sự điều động, phân công thường xuyên và đột xuất của Trưởng đơn vị; Không thực hiện hoặc không hoàn thành các báo cáo, nhiệm vụ được giao, mỗi lần (-1đ) | F20: 0
A21: 2.5 | B21: Thực hiện các báo cáo của đơn vị trễ hạn 02 lần (-1đ) | F21: 0
A22: 3 | B22: Thực hiện tốt về giao tiếp và ứng xử đối với nhân dân; đối với cấp trên, cấp dưới và đồng nghiệp | E22: =5-(E23+E24) -> 5 | F22: =5-(F23+F24) -> 5
A23: 3.1 | B23: Có lời nói, cử chỉ, thái độ, hành động gây ảnh hưởng đến uy tín, danh dự nhà trường, đơn vị, lãnh đạo và đồng nghiệp; bị đồng nghiệp, phụ huynh, HS-SV, khách đến liên hệ phản ánh, phê bình, nhắc nhở (sau khi xác minh là sai phạm) mỗi lần (-1đ) | F23: 0
A24: 3.2 | B24: Có thái độ gây nhũng nhiễu, phiền hà, trục lợi cá nhân khi xử lý, giải quyết công việc. Vi phạm 1 lần (sau khi kết quả xác minh là sai phạm) (-1đ) | F24: 0
A25: 4 | B25: Thực hiện các nội dung khác trong Quy tắc ứng xử của cán bộ, công chức, viên chức và người lao động làm việc trong các cơ quan hành chính, đơn vị sự nghiệp công lập trên địa bàn Thành phố được ban hành kèm theo Quyết định số 67/2017/QĐ-UBND ngày 29 tháng 12 năm 2017 của Ủy ban nhân dân Thành phố và các quy tắc khác của ngành, lĩnh vực | E25: =4-(E26+E27+E28) -> 4 | F25: =4-(F26+F27+F28) -> 4
A26: 4.1 | B26: Thực hiện việc gửi, trả lời thư điện tử đến các đơn vị, cá nhân trong, ngoài trường kịp thời và lịch sự. Bị phê bình, phản ảnh 2 lần (-1đ) | F26: 0
A27: 4.2 | B27: Vi phạm quy định về trang phục, lễ phục khi làm việc, hội họp trong giờ làm việc tại trường, bị ghi nhận 02 lần trở lên (-1đ) | F27: 0
A28: 4.3 | B28: Bị ghi nhận không chấp hành nghiêm chỉnh việc đeo bảng tên cá nhân (thẻ CB-GV-NV) trong giờ làm việc tại trường 2 lần trở lên (-1đ) | F28: 0
